Workbook

Sheet Plan. Orçamentária
A1: PREFEITURA MUNICIPAL Secretaria de Obras e Serviços Urbanos | Q1: 1
Q2: 2
Q3: 3
A4: OBRA POR EXECUÇÃO INDIRETA | Q4: 4
A5: Setor requisitante: Secretaria Municipal de Obras e Serviços Urbanos | Q5: 5
A6: Objeto: | C6: LOE 01 - Pavimentação de via em piso de concreto pré-moldado intertravado, tipo Sextavado - Rua Nossa Senhora do Rosário e Rua Artur Vidigal, bairro Santa Maria - Nova Era/MG | G6: BDI: | H6: =BDI!J27 -> 0.3038 | I6: =TODAY() -> 44887 | Q6: 6
Q7: 7
A8: PLANILHA ORÇAMENTÁRIA | Q8: 8
A9: Item | B9: Preço Referência | C9: Fonte | D9: Descrição | E9: Qtde. | F9: Unidade | G9: Preço unitário sem BDI | H9: Preço unitário com BDI | I9: P. Total | Q9: 9
A10: 1 | B10: - | C10: - | D10: MOBILIZAÇÃO E DESMOBILIZAÇÃO | Q10: 11
A11: =$A$10&"."&Q1 -> 1.1 | B11: ED-50393 | C11: SETOP (JUN/2022) | D11: Mobilização e desmobilização de obra em centro urbano ou região limítrofe com valor entre 1.000.000,01 a 3.000.000,00 | E11: ='Mem. Cálc. - P.O'!J18 -> 1 | F11: VB | G11: ='Mem. Cálc. - P.O'!H13 -> 3969.1 | H11: =G11+G11*H6 -> 5174.91 | I11: =E11*H11 -> 5174.91 | Q11: 12
A12: ="TOTAL (Item "&A10&"):" -> TOTAL (Item 1): | I12: =SUM(I11:I11) -> 5174.91 | Q12: 13
A13: 2 | B13: - | C13: - | D13: CANTEIRO DE OBRAS | Q13: 14
A14: =$A$13&"."&Q1 -> 2.1 | B14: ED-50152 | C14: SETOP (JUN/2022) | D14: Fornecimento e colocação de placa de obra em chapa galvanizada (3,00 x 1,50m) - em chapa galvanizada 0,26 afixadas com rebites 540 e parafusos 3/8, em estrutura metálica viga u 2" enrijecida com metalon 20 x 20, suporte em eucalipto autoclavado pintadas | E14: ='Mem. Cálc. - P.O'!J23 -> 1 | F14: UN | G14: 1224.69 | H14: =(G14+(G14*$H$6)) -> 1596.75 | I14: =E14*H14 -> 1596.75 | Q14: 15
A15: =$A$13&"."&Q2 -> 2.2 | B15: ED-50155 | C15: SETOP (JUN/2022) | D15: Locação de banheiro químico, dimensão (110x120x230)cm, linha padrão, contendo uma (1) pia/higienizador de mãos, inclusive manutenção e mobilização/desmobilização | E15: ='Mem. Cálc. - P.O'!J27 -> 4 | F15: MÊS | G15: 800 | H15: =(G15+(G15*$H$6)) -> 1043.04 | I15: =E15*H15 -> 4172.16 | N15: =L15*M15 -> 0
A16: =$A$13&"."&Q3 -> 2.3 | B16: ED-16348 | C16: SETOP (JUN/2022) | D16: Locação de container com isolamento térmico, tipo 1, para escritório de obra/almoxarifado, com medidas referenciais de (6) metros de comprimentos, (2,3) metros de largura, (2,5) metros de altura útil interna, inclusive ar condicionado e ligações elétricas internas | E16: ='Mem. Cálc. - P.O'!J31 -> 4 | F16: MÊS | G16: 681.13 | H16: =(G16+(G16*$H$6)) -> 888.06 | I16: =E16*H16 -> 3552.24 | K16: =384205 -> 384205 | L16: =K16*0.0085 -> 3265.7425 | N16: =L16*M16 -> 0
A17: =$A$13&"."&Q4 -> 2.4 | B17: ED-16356 | C17: SETOP (JUN/2022) | D17: Ligações provisórias para container tipo 1 (correspondente ao código ED-16348) | E17: ='Mem. Cálc. - P.O'!J35 -> 1 | F17: UN | G17: 312.5 | H17: =(G17+(G17*$H$6)) -> 407.44 | I17: =E17*H17 -> 407.44 | K17: =(I12+I19)/K16 -> 0.0412 | L17: =K17*100 -> 4.12 | N17: =SUM(N15:N16) -> 0
A18: =$A$13&"."&Q5 -> 2.5 | B18: ED-50137 | C18: SETOP (JUN/2022) | D18: Mobilização e desmobilização de container, inclusive instalação e transporte com caminhão guindauto (munck) | E18: ='Mem. Cálc. - P.O'!J40 -> 1 | F18: UN | G18: 700.55 | H18: =(G18+(G18*$H$6)) -> 913.38 | I18: =E18*H18 -> 913.38
A19: ="TOTAL (Item "&A13&"):" -> TOTAL (Item 2): | I19: =SUM(I14:I18) -> 10641.97 | Q19: 16
A20: 3 | B20: - | C20: - | D20: ADMINISTRAÇAO LOCAL
A21: 3.1 | B21: CO-27348 | C21: SETOP (JUN/2022) | D21: Engenheiro/Arquiteto Junior | E21: ='Mem. Cálc. - P.O'!J45 -> 88 | F21: H | G21: 84.49 | H21: =(G21+(G21*$H$6)) -> 110.16 | I21: =E21*H21 -> 9694.08
A22: 3.2 | B22: ED-21776 | C22: SETOP (JUN/2022) | D22: Encarregado geral com encargos complementares | E22: ='Mem. Cálc. - P.O'!J49 -> 4 | F22: MÊS | G22: 6136.54 | H22: =(G22+(G22*$H$6)) -> 8000.82 | I22: =E22*H22 -> 32003.28
A23: 3.3 | B23: 90781 | C23: SINAPI (OUT/2022) | D23: Topografo com encargos complementares | E23: ='Mem. Cálc. - P.O'!J53 -> 44 | F23: H | G23: 35.44 | H23: =(G23+(G23*$H$6)) -> 46.21 | I23: =E23*H23 -> 2033.24
A24: 3.4 | B24: 88253 | C24: SINAPI (OUT/2022) | D24: Auxiliar de topógrafo com encargos complementares | E24: ='Mem. Cálc. - P.O'!J57 -> 44 | F24: H | G24: 16.8 | H24: =(G24+(G24*$H$6)) -> 21.9 | I24: =E24*H24 -> 963.6
A25: ="TOTAL (Item "&A20&")" -> TOTAL (Item 3) | I25: =SUM(I21:I24) -> 44694.2
A26: 4 | B26: - | C26: - | D26: SINALIZAÇÃO
A27: 4.1 | B27: RO-42193 | C27: SETOP (JUN/2022) | D27: Placa de aço carbono com película refletiva grau técnico tipo I da ABNT, placa retangular (execução, incluindo fornecimento e transporte de todos os materiais, inclusive poste de sustentação) | E27: ='Mem. Cálc. - P.O'!J63 -> 2.64 | F27: M2 | G27: 464.54 | H27: =(G27+(G27*$H$6)) -> 605.67 | I27: =E27*H27 -> 1598.97
A28: 4.2 | B28: ED-27006 | C28: SETOP (JUN/2022) | D28: Cone para sinalização/isolamento de áreas, altura 75 cm, inclusive fornecimento e movimentação | E28: ='Mem. Cálc. - P.O'!J71 -> 10 | F28: UN | G28: 4.17 | H28: =(G28+(G28*$H$6)) -> 5.44 | I28: =E28*H28 -> 54.4
A29: ="TOTAL (Item "&A26&")" -> TOTAL (Item 4) | I29: =SUM(I27:I28) -> 1653.37
A30: 5 | B30: - | C30: - | D30: DRENAGEM PLUVIAL
A31: 5.1 | B31: 90107 | C31: SINAPI (OUT/2022) | D31: Escavação mecanizada de vala, com profundidade até 3,00m, largura menor 0,8m em solos de 1ª categoria | E31: ='Mem. Cálc. - P.O'!J106 -> 1363.07 | F31: M3 | G31: 7 | H31: =(G31+(G31*$H$6)) -> 9.13 | I31: =E31*H31 -> 12444.83
A32: 5.2 | B32: 101616 | C32: SINAPI (OUT/2022) | D32: Preparo do fundo de vala com largura menor que 1,5 m | E32: ='Mem. Cálc. - P.O'!J140 -> 603.12 | F32: M2 | G32: 4.95 | H32: =(G32+(G32*$H$6)) -> 6.45 | I32: =E32*H32 -> 3890.12
A33: 5.3 | B33: 92210 | C33: SINAPI (OUT/2022) | D33: Tubo de concreto armado PA1, DN 400mm, junta rígida tipo ponta e bolsa, incluindo fornecimento, assentamento e rejuntamento | E33: ='Mem. Cálc. - P.O'!J164 -> 251.81 | F33: M | G33: 174.07 | H33: =(G33+(G33*$H$6)) -> 226.95 | I33: =E33*H33 -> 57148.28
A34: 5.4 | B34: 92212 | C34: SINAPI (OUT/2022) | D34: Tubo de concreto armado PA1, DN 600mm, junta rígida tipo ponta e bolsa, incluindo fornecimento, assentamento e rejuntamento | E34: ='Mem. Cálc. - P.O'!J179 -> 474.26 | F34: M | G34: 312.59 | H34: =(G34+(G34*$H$6)) -> 407.55 | I34: =E34*H34 -> 193284.66
A35: 5.5 | B35: 93382 | C35: SINAPI (OUT/2022) | D35: Reaterro de vala com compactação mecânica através de placa vibratória | E35: ='Mem. Cálc. - P.O'!J216 -> 1129.86 | F35: M3 | G35: 27.39 | H35: =(G35+(G35*$H$6)) -> 35.71 | I35: =E35*H35 -> 40347.3
A36: 5.6 | B36: ="COMP-PMNE-00"&'C.P.U.'!A9 -> COMP-PMNE-001 | C36: ="COMP-PMNE-00"&'C.P.U.'!A9 -> COMP-PMNE-001 | D36: Poço de visita para drenagem pluvial em alvenaria de blocos de concreto, cheios em concreto Fck ≥ 20MPa, dimensões internas de 100X100cm, altura de 150 cm a 300 cm (varíável de acordo com perfil da rede), para rede DN 400mm e DN600mm, com tampa de concreto armado e reboco interno, incluindo escavação e reaterro compactado, conforme projeto | E36: ='Mem. Cálc. - P.O'!J230 -> 9 | F36: UN | G36: ='C.P.U.'!I9 -> 5853.28 | H36: =(G36+(G36*$H$6)) -> 7631.51 | I36: =E36*H36 -> 68683.59 | O36: 48
A37: 5.7 | B37: ="COMP-PMNE-00"&'C.P.U.'!A30 -> COMP-PMNE-003 | C37: ="COMP-PMNE-00"&'C.P.U.'!A30 -> COMP-PMNE-003 | D37: Caixa de passagem para drenagem pluvial, em alvenaria de blocos de concreto, cheios em concreto Fck ≥ 20MPa, dimensões internas de 100X100cm, altura ≤ 250cm, para rede DN 400mm e DN600mm, com tampa de concreto armado e reboco interno, incluindo escavação e reaterro compactado, conforme projeto | E37: ='Mem. Cálc. - P.O'!J237 -> 2 | F37: UN | G37: ='C.P.U.'!I30 -> 5634.74 | H37: =(G37+(G37*$H$6)) -> 7346.57 | I37: =E37*H37 -> 14693.14
A38: 5.8 | B38: ED-48549 | C38: SETOP (JUN/2022) | D38: Boca de lobo simples, dimensões internas de 85x28x100cm (comp. x larg. x alt.) em alvenaria de blocos de concreto, cheios em concreto Fck ≥ 20MPa, sobre lastro de concreto 10cm, incluindo escavação e reaterro compactado, conforme projeto. Inclusive reboco para alvenaria interna, grelha GR 95 ferro fundido, cantoneira e bota fora (Tipo A - ferro fundido) | E38: ='Mem. Cálc. - P.O'!J244 -> 17 | F38: UN | G38: 2313.86 | H38: =(G38+(G38*$H$6)) -> 3016.81 | I38: =E38*H38 -> 51285.77
A39: ="TOTAL (Item "&A30&"):" -> TOTAL (Item 5): | I39: =SUM(I31:I38) -> 441777.69
A40: 6 | B40: - | C40: - | D40: PAVIMENTAÇÃO
...

Sheet Mem. Cálc. - P.O
A1: PREFEITURA MUNICIPAL Secretaria de Obras e Serviços Urbanos
A4: ='Plan. Orçamentária'!A4:I4 -> OBRA POR EXECUÇÃO INDIRETA
A5: ='Plan. Orçamentária'!A5 -> Setor requisitante: Secretaria Municipal de Obras e Serviços Urbanos
A6: ='Plan. Orçamentária'!A6 -> Objeto: | B6: ='Plan. Orçamentária'!C6 -> LOE 01 - Pavimentação de via em piso de concreto pré-moldado intertravado, tipo Sextavado - Rua Nossa Senhora do Rosário e Rua Artur Vidigal, bairro Santa Maria - Nova Era/MG | H6: ='Plan. Orçamentária'!G6 -> BDI: | I6: ='Plan. Orçamentária'!H6 -> 0.3038 | J6: ='Plan. Orçamentária'!I6 -> 44887
A8: MEMÓRIA DE CÁLCULO
A9: ='Plan. Orçamentária'!A10 -> 1 | B9: ='Plan. Orçamentária'!D10 -> MOBILIZAÇÃO E DESMOBILIZAÇÃO
A10: Detalhe | D10: Custo direto da obra (com BDI) | F10: Custo direto da obra (sem BDI) | H10: ='Plan. Orçamentária'!D11 -> Mobilização e desmobilização de obra em centro urbano ou região limítrofe com valor entre 1.000.000,01 a 3.000.000,00
A13: 0.3 | D13: ='Plan. Orçamentária'!I19+'Plan. Orçamentária'!I25+'Plan. Orçamentária'!I29+'Plan. Orçamentária'!I39+'Plan. Orçamentária'!I55 -> 1724970.4 | F13: =D13/1.3038 -> 1323033 | H13: =(F13*A13)/100 -> 3969.1
A14: ='Plan. Orçamentária'!A11 -> 1.1 | B14: ='Plan. Orçamentária'!D11 -> Mobilização e desmobilização de obra em centro urbano ou região limítrofe com valor entre 1.000.000,01 a 3.000.000,00
A15: Detalhe | D15: Extensão | E15: Largura | F15: Altura | G15: Quantidade | H15: Lados | I15: Área | J15: Total
A16: Mobilização | G16: 0.7 | J16: =((PRODUCT(D16:H16))-I16) -> 0.7
A17: Desmobilização | G17: 0.3 | J17: =((PRODUCT(D17:H17))-I17) -> 0.3
A18: ="TOTAL - "&'Plan. Orçamentária'!F11 -> TOTAL - VB | J18: =SUM(J16:J17) -> 1
A19: ='Plan. Orçamentária'!A13 -> 2 | B19: ='Plan. Orçamentária'!D13 -> CANTEIRO DE OBRAS
A20: ='Plan. Orçamentária'!A14 -> 2.1 | B20: ='Plan. Orçamentária'!D14 -> Fornecimento e colocação de placa de obra em chapa galvanizada (3,00 x 1,50m) - em chapa galvanizada 0,26 afixadas com rebites 540 e parafusos 3/8, em estrutura metálica viga u 2" enrijecida com metalon 20 x 20, suporte em eucalipto autoclavado pintadas
A21: Detalhe | D21: Extensão | E21: Largura | F21: Altura | G21: Quantidade | H21: Lados | I21: Área | J21: Total
A22: Placa de identificação de obra | G22: 1 | J22: =((PRODUCT(D22:H22))-I22) -> 1
A23: ="TOTAL - "&'Plan. Orçamentária'!F14 -> TOTAL - UN | J23: =SUM(J22) -> 1
A24: ='Plan. Orçamentária'!A15 -> 2.2 | B24: ='Plan. Orçamentária'!D15 -> Locação de banheiro químico, dimensão (110x120x230)cm, linha padrão, contendo uma (1) pia/higienizador de mãos, inclusive manutenção e mobilização/desmobilização
A25: Detalhe | D25: Extensão | E25: Largura | F25: Altura | G25: Quantidade | H25: Lados | I25: Área | J25: Total
A26: 01 (um) banheiro químico durante o perído de execução da obra | G26: 4 | J26: =((PRODUCT(D26:H26))-I26) -> 4
A27: ="TOTAL - "&'Plan. Orçamentária'!F15 -> TOTAL - MÊS | J27: =SUM(J26) -> 4
A28: ='Plan. Orçamentária'!A16 -> 2.3 | B28: ='Plan. Orçamentária'!D16 -> Locação de container com isolamento térmico, tipo 1, para escritório de obra/almoxarifado, com medidas referenciais de (6) metros de comprimentos, (2,3) metros de largura, (2,5) metros de altura útil interna, inclusive ar condicionado e ligações elétricas internas
A29: Detalhe | D29: Extensão | E29: Largura | F29: Altura | G29: Quantidade | H29: Lados | I29: Área | J29: Total
A30: 01 (um) container durante o período de execução da obra | G30: 4 | J30: =((PRODUCT(D30:H30))-I30) -> 4
A31: ="TOTAL - "&'Plan. Orçamentária'!F16 -> TOTAL - MÊS | J31: =SUM(J30) -> 4
A32: ='Plan. Orçamentária'!A17 -> 2.4 | B32: ='Plan. Orçamentária'!D17 -> Ligações provisórias para container tipo 1 (correspondente ao código ED-16348)
A33: Detalhe | D33: Extensão | E33: Largura | F33: Altura | G33: Quantidade | H33: Lados | I33: Área | J33: Total
A34: Ligações provisórias para 01 (um) container durante o período de execução da obra | G34: 1 | J34: =((PRODUCT(D34:H34))-I34) -> 1
A35: ="TOTAL - "&'Plan. Orçamentária'!F17 -> TOTAL - UN | J35: =SUM(J34) -> 1
A36: ='Plan. Orçamentária'!A18 -> 2.5 | B36: ='Plan. Orçamentária'!D18 -> Mobilização e desmobilização de container, inclusive instalação e transporte com caminhão guindauto (munck)
A37: Detalhe | D37: Extensão | E37: Largura | F37: Altura | G37: Quantidade | H37: Lados | I37: Área | J37: Total
A38: Mobilização de container | G38: 0.7 | J38: =PRODUCT(D38:I38) -> 0.7
A39: Desmobilização de container | G39: 0.3 | J39: =PRODUCT(D39:I39) -> 0.3
A40: ="TOTAL - "&'Plan. Orçamentária'!F18 -> TOTAL - UN | J40: =SUM(J38:J39) -> 1
A41: ='Plan. Orçamentária'!A20 -> 3 | B41: ='Plan. Orçamentária'!D20 -> ADMINISTRAÇAO LOCAL
A42: ='Plan. Orçamentária'!A21 -> 3.1 | B42: ='Plan. Orçamentária'!D21 -> Engenheiro/Arquiteto Junior
A43: Detalhe | D43: Extensão | E43: Largura | F43: Quantidade (horas/dia) | G43: Quantidade (dia/mês) | H43: Quantidade (mês) | I43: Dedução | J43: Total
A44: 01 (um) engenheiro durante o perído de execução da obra | F44: 1 | G44: 22 | H44: 4 | J44: =((PRODUCT(D44:H44))-I44) -> 88
A45: ="TOTAL - " & "H" -> TOTAL - H | J45: =SUM(J44) -> 88
...

Sheet C.P.U.
A1: PREFEITURA MUNICIPAL Secretaria de Obras e Serviços Urbanos | Q1: 1
Q2: 2
Q3: 3
A4: ='Plan. Orçamentária'!A4:I4 -> OBRA POR EXECUÇÃO INDIRETA | Q4: 4
A5: ='Plan. Orçamentária'!A5:I5 -> Setor requisitante: Secretaria Municipal de Obras e Serviços Urbanos | Q5: 5
A6: ='Plan. Orçamentária'!A6:B7 -> Objeto: | B6: ='Plan. Orçamentária'!C6 -> LOE 01 - Pavimentação de via em piso de concreto pré-moldado intertravado, tipo Sextavado - Rua Nossa Senhora do Rosário e Rua Artur Vidigal, bairro Santa Maria - Nova Era/MG | G6: ='Plan. Orçamentária'!G6:G7 -> BDI: | H6: ='Plan. Orçamentária'!H6:H7 -> 0.3038 | I6: ='Plan. Orçamentária'!I6:I7 -> 44887 | Q6: 6
Q7: 7
A8: COMPOSIÇÃO DE CUSTOS UNITÁRIOS
A9: 1 | B9: Poço de visita para drenagem pluvial em alvenaria de blocos de concreto, cheios em concreto Fck ≥ 20MPa, dimensões internas de 100X100cm, altura de 150 cm a 300 cm (varíável de acordo com perfil da rede), para rede DN 400mm e DN600mm, com tampa de concreto armado e reboco interno, incluindo escavação e reaterro compactado, conforme projeto | H9: UN | I9: =I18 -> 5853.28
A10: Item | B10: Referência coeficiente | C10: Referência custo unitário | D10: Fonte custo unitário | E10: Descrição do insumo / serviço | F10: Unidade | G10: Coeficiente | H10: Custo unitário (R$) | I10: Custo total (R$)
A11: ="00"&$A$9&"."&Q1 -> 001.1 | B11: COMP-PMNE/MG | C11: ="COMP-PMNE-00"&A19 -> COMP-PMNE-002 | D11: COMP-PMNE/MG | E11: Execução de radier, espessura de 15 cm, Fck = 30 MPa, com uso de formas em madeira serrada inclusive execução de lastro com material granular (pedra britada n.2), escavação manual e compactação mecânica de solo | F11: M2 | G11: ='Memória de Cálculo - Composição'!I13 -> 2.07 | H11: =I29 -> 220.68 | I11: =G11*H11 -> 456.81
A12: ="00"&$A$9&"."&Q2 -> 001.2 | B12: COMP-PMNE/MG | C12: 92803 | D12: SINAPI (OUT/2022) | E12: Corte e dobra de aço CA-50, diâmetro de 10,0 mm (0,617kg/m), utilizado em estrutura diversas (Armadura positiva e negativa em duas direções para radier) | F12: KG | G12: ='Memória de Cálculo - Composição'!I18 -> 49.76 | H12: 11.72 | I12: =G12*H12 -> 583.19
A13: ="00"&$A$9&"."&Q3 -> 001.3 | B13: COMP-PMNE/MG | C13: 99252 | D13: SINAPI (OUT/2022) | E13: Base para poço de visita retangular para drenagem, em alvenaria com blocos de concreto, dimensões internas = 1,00 x 1,00 m, profundidade = 1,50, excluindo tampão | F13: UN | G13: 1 | H13: 2340.17 | I13: =G13*H13 -> 2340.17
A14: ="00"&$A$9&"."&Q4 -> 001.4 | B14: COMP-PMNE/MG | C14: ED-49621 | D14: SETOP (JUN/2022) | E14: Confecção de tampa em concreto armado, com armadura de ø 10,00 mm em duas direções, para poço de visita, Fck ≥ 35 MPa, inclusive lançamento de concreto, adensamento com vibrador de imersão, acabamento e formas | F14: M3 | G14: ='Memória de Cálculo - Composição'!I22 -> 2.07 | H14: 682.74 | I14: =G14*H14 -> 1413.27
A15: ="00"&$A$9&"."&Q5 -> 001.5 | B15: COMP-PMNE/MG | C15: 92803 | D15: SINAPI (OUT/2022) | E15: Corte e dobra de aço CA-50, diâmetro de 10,0 mm (0,617kg/m), utilizado em estrutura diversas (Armadura positiva e negativa em duas direções para tampa de concreto | F15: KG | G15: ='Memória de Cálculo - Composição'!I27 -> 49.76 | H15: 11.72 | I15: =G15*H15 -> 583.19
A16: ="00"&$A$9&"."&Q6 -> 001.6 | B16: COMP-PMNE/MG | C16: 87299 | D16: SINAPI (OUT/2022) | E16: Reboco, em argamassa traço 1:3 (Em volume de cimento e areia média úmida) para paredes internas, preparo mecânico com betoneira 600 L, aplicado manualmente em faces internas de paredes, espessura de 35 mm. | F16: M2 | G16: ='Memória de Cálculo - Composição'!I31 -> 0.28 | H16: 429.9 | I16: =G16*H16 -> 120.37
A17: ="00"&$A$9&"."&Q7 -> 001.7 | B17: COMP-PMNE/MG | C17: 100066 | D17: SINAPI (OUT/2022) | E17: Armação do sistema de paredes com uso de tela Q-196 (3,11 kg/m2) | F17: KG | G17: ='Memória de Cálculo - Composição'!I35 -> 24.88 | H17: 14.32 | I17: =G17*H17 -> 356.28
A18: ="TOTAL - "&G9 -> TOTAL - | I18: =SUM(I11:I17) -> 5853.28
A19: 2 | B19: Execução de radier, espessura de 15 cm, Fck = 30 MPa, com uso de formas em madeira serrada inclusive execução de lastro com material granular (pedra britada n.2), escavação manual e compactação mecânica de solo | H19: M2 | I19: =I29 -> 220.68
A20: Item | B20: Referência coeficiente | C20: Referência custo unitário | E20: Descrição do insumo / serviço | F20: Unidade | G20: Coeficiente | H20: Custo unitário (R$) | I20: Custo total (R$)
A22: ="00"&$A$19&"."&Q1 -> 002.1 | B22: COMP-PMNE/MG | C22: 96624 | D22: SINAPI (OUT/2022) | E22: Lastro com material granular (pedra britada n.1), aplicado em pisos ou radiers, espessura de *10 cm* | F22: M3 | G22: 0.1 | H22: 148.16 | I22: =G22*H22 -> 14.82
A23: ="00"&$A$19&"."&Q2 -> 002.2 | B23: COMP-PMNE/MG | C23: 97082 | D23: SINAPI (OUT/2022) | E23: Escavação manual de viga de borda para radier | F23: M3 | G23: 0.035 | H23: 47.07 | I23: =G23*H23 -> 1.65
A24: ="00"&$A$19&"."&Q3 -> 002.3 | B24: COMP-PMNE/MG | C24: 97083 | D24: SINAPI (OUT/2022) | E24: Compactação mecânica de solo para execução de radier, com compactador de solos a percussão | F24: M2 | G24: 1 | H24: 2.6 | I24: =G24*H24 -> 2.6
A25: ="00"&$A$19&"."&Q4 -> 002.4 | B25: COMP-PMNE/MG | C25: 97086 | D25: SINAPI (OUT/2022) | E25: Fabricação, montagem e desmontagem de forma para radier, em madeira serrada, 4 utilizações | F25: M2 | G25: 0.06 | H25: 127.41 | I25: =G25*H25 -> 7.64
A26: ="00"&$A$19&"."&Q5 -> 002.5 | B26: COMP-PMNE/MG | C26: 97087 | D26: SINAPI (OUT/2022) | E26: Camada separadora para execução de radier, em lona plástica | F26: M2 | G26: 1 | H26: 2.62 | I26: =G26*H26 -> 2.62
A27: ="00"&$A$19&"."&Q6 -> 002.6 | B27: COMP-PMNE/MG | C27: 97092 | D27: SINAPI (OUT/2022) | E27: Armação para execução de radier, com uso de tela Q-196 (3,11 kg/m2) | F27: KG | G27: 4.4 | H27: 20.21 | I27: =G27*H27 -> 88.92
A28: ="00"&$A$19&"."&Q7 -> 002.7 | B28: COMP-PMNE/MG | C28: 97096 | D28: SINAPI (OUT/2022) | E28: Concretagem de radier, piso ou laje sobre solo, Fck ≥ 30 MPa, para espessura de 15 cm - Lançamento, adensamento e acabamento | F28: M3 | G28: 0.15 | H28: 682.86 | I28: =G28*H28 -> 102.43
A29: ="TOTAL - "&H19 -> TOTAL - M2 | I29: =SUM(I22:I28) -> 220.68
A30: 3 | B30: ='[2]Plan. Orçamentária'!D42 -> Caixa de passagem para drenagem pluvial, em alvenaria de blocos de concreto, cheios em concreto Fck ≥ 20MPa, dimensões internas de 100X100cm, altura ≤ 250cm, para rede DN 400mm e DN600mm, com tampa de concreto armado e reboco interno, incluindo escavação e reaterro compactado, conforme projeto | H30: UN | I30: =I39 -> 5634.74
A31: Item | B31: Referência coeficiente | C31: Referência custo unitário | D31: Fonte custo unitário | E31: Descrição do insumo / serviço | F31: Unidade | G31: Coeficiente | H31: Custo unitário (R$) | I31: Custo total (R$)
A32: ="00"&$A$30&"."&Q1 -> 003.1 | B32: COMP-PMNE/MG | C32: ="COMP-PMNE-00"&A19 -> COMP-PMNE-002 | D32: COMP-PMNE/MG | E32: =B19 -> Execução de radier, espessura de 15 cm, Fck = 30 MPa, com uso de formas em madeira serrada inclusive execução de lastro com material granular (pedra britada n.2), escavação manual e compactação mecânica de solo | F32: =H19 -> M2 | G32: ='[2]Memória de cálculo - Composição'!I40 -> 1.96 | H32: =I29 -> 220.68 | I32: =G32*H32 -> 432.53
A33: ="00"&$A$30&"."&Q2 -> 003.2 | B33: COMP-PMNE/MG | C33: 92803 | D33: SINAPI (OUT/2022) | E33: Corte e dobra de aço CA-50, diâmetro de 10,0 mm (0,617kg/m), utilizado em estrutura diversas (Armadura positiva e negativa em duas direções para radier) | F33: KG | G33: ='[2]Memória de cálculo - Composição'!I45 -> 49.76 | H33: 11.72 | I33: =G33*H33 -> 583.19
A34: ="00"&$A$30&"."&Q3 -> 003.3 | B34: COMP-PMNE/MG | C34: 99252 | D34: SINAPI (OUT/2022) | E34: Base para poço de visita retangular para drenagem, em alvenaria com blocos de concreto, dimensões internas = 1x1 m, profundidade = 1,50 m, excluindo tampão. af_12/2020 | F34: UN | G34: 1 | H34: 2340.17 | I34: =G34*H34 -> 2340.17
A35: ="00"&$A$30&"."&Q4 -> 003.4 | B35: COMP-PMNE/MG | C35: ED-49621 | D35: SETOP (JUN/2022) | E35: Confecção de tampa em concreto armado, com armadura de ø 10,00 mm em duas direções, para poço de visita, Fck ≥ 35 MPa, inclusive lançamento de concreto, adensamento com vibrador de imersão, acabamento e formas | F35: M3 | G35: ='[2]Memória de cálculo - Composição'!I49 -> 1.96 | H35: 682.74 | I35: =G35*H35 -> 1338.17
A36: ="00"&$A$30&"."&Q5 -> 003.5 | B36: COMP-PMNE/MG | C36: 92803 | D36: SINAPI (OUT/2022) | E36: Corte e dobra de aço CA-50, diâmetro de 10,0 mm (0,617kg/m), utilizado em estrutura diversas (Armadura positiva e negativa em duas direções para tampa de concreto) | F36: KG | G36: ='[2]Memória de cálculo - Composição'!I54 -> 49.76 | H36: 11.72 | I36: =G36*H36 -> 583.19
A37: ="00"&$A$30&"."&Q6 -> 003.6 | B37: COMP-PMNE/MG | C37: 87299 | D37: SINAPI (OUT/2022) | E37: Reboco, em argamassa traço 1:3 (Em volume de cimento e areia média úmida) para paredes internas, preparo mecânico com betoneira 600 L, aplicado manualmente em faces internas de paredes, espessura de 35 mm. | F37: M3 | G37: ='[2]Memória de cálculo - Composição'!I58 -> 0.21 | H37: 429.9 | I37: =G37*H37 -> 90.28
A38: ="00"&$A$30&"."&Q7 -> 003.7 | B38: COMP-PMNE/MG | C38: 100066 | D38: SINAPI (OUT/2022) | E38: Armação do sistema de paredes com uso de tela Q-196 (3,11 kg/m2) | F38: KG | G38: ='[2]Memória de cálculo - Composição'!I62 -> 18.66 | H38: 14.32 | I38: =G38*H38 -> 267.21
A39: ="TOTAL - "&H30 -> TOTAL - UN | I39: =SUM(I32:I38) -> 5634.74
A40: 4 | B40: ='Plan. Orçamentária'!D57 -> Mureta de bloco de concreto, esp. 15cm, h= 105cm, a revestir | H40: M | I40: =I53 -> 292.43
A41: Item | B41: Referência coeficiente | C41: Referência custo unitário | D41: Fonte custo unitário | E41: Descrição do insumo / serviço | F41: Unidade | G41: Coeficiente | H41: Custo unitário (R$) | I41: Custo total (R$)
...

Sheet Memória de Cálculo - Composição
A1: PREFEITURA MUNICIPAL Secretaria de Obras e Serviços Urbanos
A4: ='[2]Plan. Orçamentária'!A4:I4 -> OBRA POR EXECUÇÃO INDIRETA
A5: ='[2]Plan. Orçamentária'!A5:I5 -> Setor requisitante: Secretaria Municipal de Obras e Serviços Urbanos
A6: ='[2]Plan. Orçamentária'!A6:B7 -> Objeto: | B6: ='Plan. Orçamentária'!C6 -> LOE 01 - Pavimentação de via em piso de concreto pré-moldado intertravado, tipo Sextavado - Rua Nossa Senhora do Rosário e Rua Artur Vidigal, bairro Santa Maria - Nova Era/MG | G6: ='[2]Plan. Orçamentária'!G6:G7 -> BDI: | H6: ='[2]Plan. Orçamentária'!H6:H7 -> 0.3038 | I6: =TODAY() -> 44887
A8: COMPOSIÇÃO DE CUSTOS UNITÁRIOS
A9: ='[2]Plan. Orçamentária'!A41 -> 5.11 | B9: ='[2]C.P.U.'!B9 -> Poço de visita para drenagem pluvial em alvenaria de blocos de concreto, cheios em concreto Fck ≥ 20MPa, dimensões internas de 100X100cm, altura de 150 cm a 300 cm (varíável de acordo com perfil da rede), para rede DN 400mm e DN600mm, com tampa de concreto armado e reboco interno, incluindo escavação e reaterro compactado, conforme projeto
A10: ='[2]C.P.U.'!A11 -> 001.1 | B10: ='[2]C.P.U.'!E11 -> Execução de radier, espessura de 15 cm, Fck = 30 MPa, com uso de formas em madeira serrada inclusive execução de lastro com material granular (pedra britada n.2), escavação manual e compactação mecânica de solo
A11: Detalhe | C11: Extensão | D11: Largura | E11: Altura | F11: Quantitade | G11: Meses | H11: Dedução | I11: Total
A12: Base para caixa de passagem | C12: 1.44 | D12: 1.44 | I12: =PRODUCT(C12:H12) -> 2.07
A13: ="TOTAL - "&[3]Composição!F21 -> TOTAL - M3 | I13: =SUM(I12) -> 2.07
A14: ='[2]C.P.U.'!A12 -> 001.2 | B14: ='[2]C.P.U.'!E12 -> Corte e dobra de aço CA-50, diâmetro de 10,0 mm (0,617kg/m), utilizado em estrutura diversas (Armadura positiva e negativa em duas direções para radier)
A15: Detalhe | C15: Extensão | D15: Largura | E15: Altura | F15: Quantitade | G15: Direção | H15: Massa nominal (kg/m2) | I15: Total
A16: Radier - Positiva | C16: 1.44 | F16: 14 | G16: 2 | H16: 0.617 | I16: =PRODUCT(C16:H16) -> 24.88
A17: Radier - Negativa | C17: 1.44 | F17: 14 | G17: 2 | H17: 0.617 | I17: =PRODUCT(C17:H17) -> 24.88
A18: ="TOTAL - "&[3]Composição!F22 -> TOTAL - M2 | I18: =SUM(I16:I17) -> 49.76
A19: ='[2]C.P.U.'!A14 -> 001.4 | B19: ='[2]C.P.U.'!E14 -> Confecção de tampa em concreto armado, com armadura de ø 10,00 mm em duas direções, para poço de visita, Fck ≥ 35 MPa, inclusive lançamento de concreto, adensamento com vibrador de imersão, acabamento e formas
A20: Detalhe | C20: Extensão | D20: Largura | E20: Altura | F20: Quantitade | G20: Meses | H20: Dedução | I20: Total
A21: Tampa para caixa de passagem | C21: 1.44 | D21: 1.44 | I21: =PRODUCT(C21:H21) -> 2.07
A22: ="TOTAL - "&[3]Composição!F24 -> TOTAL - M2 | I22: =SUM(I21) -> 2.07
A23: ='[2]C.P.U.'!A15 -> 001.5 | B23: ='[2]C.P.U.'!E15 -> Corte e dobra de aço CA-50, diâmetro de 10,0 mm (0,617kg/m), utilizado em estrutura diversas (Armadura positiva e negativa em duas direções para tampa de concreto
A24: Detalhe | C24: Extensão | D24: Largura | E24: Altura | F24: Quantitade | G24: Direção | H24: Massa nominal (kg/m) | I24: Total
A25: Tampa de concreto - Positiva | C25: 1.44 | F25: 14 | G25: 2 | H25: 0.617 | I25: =PRODUCT(C25:H25) -> 24.88
A26: Tampa de concreto - Negativa | C26: 1.44 | F26: 14 | G26: 2 | H26: 0.617 | I26: =PRODUCT(C26:H26) -> 24.88
A27: ="TOTAL - "&[3]Composição!F25 -> TOTAL - KG | I27: =SUM(I25:I26) -> 49.76
A28: ='[2]C.P.U.'!A16 -> 001.6 | B28: ='[2]C.P.U.'!E16 -> Reboco, em argamassa traço 1:3 (Em volume de cimento e areia média úmida) para paredes internas, preparo mecânico com betoneira 600 L, aplicado manualmente em faces internas de paredes, espessura de 35 mm.
A29: Detalhe | C29: Extensão | D29: Largura | E29: Altura | F29: Lados | G29: Espessura | H29: Dedução | I29: Total
A30: Paredes internas | D30: 1 | E30: 2 | F30: 4 | G30: 0.035 | I30: =PRODUCT(C30:H30) -> 0.28
A31: ="TOTAL - "&[3]Composição!F26 -> TOTAL - M3 | I31: =SUM(I30) -> 0.28
A32: ='[2]C.P.U.'!A17 -> 001.7 | B32: ='[2]C.P.U.'!E17 -> Armação do sistema de paredes com uso de tela Q-196 (3,11 kg/m2)
A33: Detalhe | C33: Extensão | D33: Largura | E33: Altura | F33: Quantitade | G33: Direção | H33: Massa nominal (kg/m2) | I33: Total
A34: Tampa para caixa de passagem | D34: 1 | E34: 2 | G34: 4 | H34: 3.11 | I34: =PRODUCT(C34:H34) -> 24.88
A35: ="TOTAL - "&[3]Composição!F27 -> TOTAL - | I35: =SUM(I34) -> 24.88
A36: ='[2]C.P.U.'!A30 -> 3 | B36: ='[2]C.P.U.'!B30 -> Caixa de passagem para drenagem pluvial, em alvenaria de blocos de concreto, cheios em concreto Fck ≥ 20MPa, dimensões internas de 100X100cm, altura ≤ 250cm, para rede DN 400mm e DN600mm, com tampa de concreto armado e reboco interno, incluindo escavação e reaterro compactado, conforme projeto
A37: ='[2]C.P.U.'!A32 -> 003.1 | B37: ='[2]C.P.U.'!E32 -> Execução de radier, espessura de 15 cm, Fck = 30 MPa, com uso de formas em madeira serrada inclusive execução de lastro com material granular (pedra britada n.2), escavação manual e compactação mecânica de solo
A38: Detalhe | C38: Extensão | D38: Largura | E38: Altura | F38: Quantitade | G38: Meses | H38: Dedução | I38: Total
A39: Base para caixa de passagem | C39: 1.4 | D39: 1.4 | I39: =PRODUCT(C39:H39) -> 1.96
A40: ="TOTAL - "&[3]Composição!F56 -> TOTAL - Unidade | I40: =SUM(I39) -> 1.96
A41: ='[2]C.P.U.'!A33 -> 003.2 | B41: ='[2]C.P.U.'!E33 -> Corte e dobra de aço CA-50, diâmetro de 10,0 mm (0,617kg/m), utilizado em estrutura diversas (Armadura positiva e negativa em duas direções para radier)
A42: Detalhe | C42: Extensão | D42: Largura | E42: Altura | F42: Quantitade | G42: Direção | H42: Massa nominal (kg/m2) | I42: Total
A43: Radier - Positiva | C43: 1.44 | F43: 14 | G43: 2 | H43: 0.617 | I43: =PRODUCT(C43:H43) -> 24.88
...

Sheet BDI
A1: PREFEITURA MUNICIPAL Secretaria de Obras e Serviços Urbanos
A4: ='[4]PLANILHA ORÇAMENTÁRIA'!A4 -> OBRA POR EXECUÇÃO INDIRETA
A5: ='[4]PLANILHA ORÇAMENTÁRIA'!A5 -> Setor requisitante: Secretaria Municipal de Obras e Serviços Urbanos
A6: ='[4]PLANILHA ORÇAMENTÁRIA'!A6 -> Objeto: | B6: ='Plan. Orçamentária'!C6 -> LOE 01 - Pavimentação de via em piso de concreto pré-moldado intertravado, tipo Sextavado - Rua Nossa Senhora do Rosário e Rua Artur Vidigal, bairro Santa Maria - Nova Era/MG | J6: ='Plan. Orçamentária'!I6:I7 -> 44887
A7: BDI
A9: Conforme legislação tributária municipal, definir estimativa de percentual da base de cálculo para o ISS: | I9: 0.9
A10: Sobre a base de cálculo, definir a respectiva alíquota do ISS (entre 2% e 5%): | I10: 0.05
A12: BDI 1
A14: TIPO DE OBRA
A15: Contrução de rodovias e ferrovias
A17: Itens | I17: Siglas | J17: % Adotado
A18: =IF($J$20=$A$167,"Encargos Sociais incidentes sobre a mão de obra","Administração Central") -> Administração Central | I18: AC | J18: 0.0401
A19: =IF($J$20=$A$167,"Administração Central da empresa ou consultoria - overhead","Seguro e Garantia") -> Seguro e Garantia | I19: SG | J19: 0.004
A20: =IF($J$20=$A$167,"","Risco") -> Risco | I20: R | J20: 0.0056
A21: =IF($J$20=$A$167,"","Despesas Financeiras") -> Despesas Financeiras | I21: DF | J21: 0.0111
A22: =IF($J$20=$A$167,"Margem bruta da empresa de consultoria","Lucro") -> Lucro | I22: L | J22: 0.073
A23: Tributos (impostos COFINS 3%, e PIS 0,65%) | I23: CP | J23: 0.0365
A24: Tributos (ISS, variável de acordo com o município) | I24: ISS | J24: =I10*I9 -> 0.045
A25: Tributos (Contribuição Previdenciária sobre a Receita Bruta - 0% ou 4,5% - Desoneração) | I25: CPRB | J25: 0.045
A26: BDI SEM desoneração (Fórmula Acórdão TCU) | I26: BDI PAD | J26: =(((1+J18+J19+J20)*(1+J21)*(1+J22))/(1-(J23+J24)))-1 -> 0.2399
A27: BDI COM desoneração | I27: BDI DES | J27: =(((1+(J18+J19+J20))*(1+J21)*(1+J22))/(1-(J23+J24+J25)))-1 -> 0.3038
A29: Os valores de BDI foram calculados com o emprego da fórmula: | L29: =(1+J18+J19+J20)*(1+J21)*(1+J22) -> 1.1388 | M29: =(L29/L30)-1 -> 0.3037
L30: =(1-J23-J24-J25) -> 0.8735
A34: =CONCATENATE("Declaro para os devidos fins que, conforme legislação tributária municipal, a base de cálculo deste tipo de obra corresponde à ",$I$9*100,"%, com a respectiva alíquota de ",$I$10*100,"%.") -> Declaro para os devidos fins que, conforme legislação tributária municipal, a base de cálculo deste tipo de obra corresponde à 90%, com a respectiva alíquota de 5%.
A38: ="Declaro para os devidos fins que o regime de Contribuição Previdenciária sobre a Receita Bruta adotado para elaboração do orçamento foi COM Desoneração, e que esta é a alternativa mais adequada para a Administração Pública." -> Declaro para os devidos fins que o regime de Contribuição Previdenciária sobre a Receita Bruta adotado para elaboração do orçamento foi COM Desoneração, e que esta é a alternativa mais adequada para a Administração Pública.
A42: Observações:
A64: Contrução e Reforma de Edifícios

Sheet Cronograma Fis-Fin
A1: PREFEITURA MUNICIPAL Secretaria de Obras e Serviços Urbanos
A4: ='Plan. Orçamentária'!A4:I4 -> OBRA POR EXECUÇÃO INDIRETA
A5: ='Plan. Orçamentária'!A5:I5 -> Setor requisitante: Secretaria Municipal de Obras e Serviços Urbanos
A6: ='Plan. Orçamentária'!A6:B7 -> Objeto: | B6: ='Plan. Orçamentária'!C6 -> LOE 01 - Pavimentação de via em piso de concreto pré-moldado intertravado, tipo Sextavado - Rua Nossa Senhora do Rosário e Rua Artur Vidigal, bairro Santa Maria - Nova Era/MG | N6: ='Plan. Orçamentária'!G6:G7 -> BDI: | O6: ='Plan. Orçamentária'!H6:H7 -> 0.3038 | P6: ='Plan. Orçamentária'!I6:I7 -> 44887
A8: CRONOGRAMA FÍSICO / FINANCEIRO
A9: ITEM | B9: EVENTO | E9: FÍSICO/ FINANCEIRO | F9: TOTAL ETAPAS | G9: MÊS 1 | H9: MÊS 2 | I9: MÊS 3 | J9: MÊS 4 | K9: MÊS 5 | L9: MÊS 6 | M9: MÊS 7 | N9: MÊS 8 | O9: MÊS 9 | P9: MÊS 10
A11: ='Plan. Orçamentária'!A10 -> 1 | B11: ='Plan. Orçamentária'!D10 -> MOBILIZAÇÃO E DESMOBILIZAÇÃO | E11: Físico % | F11: 1 | G11: =G12/F12 -> 0.7 | H11: =H12/F12 -> 0 | I11: =I12/F12 -> 0 | J11: =J12/F12 -> 0.3
E12: Financeiro | F12: ='Plan. Orçamentária'!I11 -> 5174.91 | G12: ='Plan. Orçamentária'!I12*0.7 -> 3622.44 | J12: ='Plan. Orçamentária'!I12*0.3 -> 1552.47 | R12: =F12 -> 5174.91 | S12: =SUM(G12:J12) -> 5174.91 | T12: =R12-S12 -> 0
A13: ='Plan. Orçamentária'!A13 -> 2 | B13: ='Plan. Orçamentária'!D13 -> CANTEIRO DE OBRAS | E13: Físico % | F13: 1 | G13: =G14/F14 -> 0.25 | H13: =H14/F14 -> 0.25 | I13: =I14/F14 -> 0.25 | J13: =J14/F14 -> 0.25
E14: Financeiro | F14: ='Plan. Orçamentária'!I19 -> 10641.97 | G14: ='Plan. Orçamentária'!I19/4 -> 2660.49 | H14: ='Plan. Orçamentária'!I19/4 -> 2660.49 | I14: ='Plan. Orçamentária'!I19/4 -> 2660.49 | J14: ='Plan. Orçamentária'!I19/4+0.01 -> 2660.5 | R14: =F14 -> 10641.97 | S14: =SUM(G14:J14) -> 10641.97 | T14: =R14-S14 -> 0
A15: ='Plan. Orçamentária'!A20 -> 3 | B15: ='Plan. Orçamentária'!D20 -> ADMINISTRAÇAO LOCAL | E15: Físico % | F15: 1 | G15: =G16/F16 -> 0.25 | H15: =H16/F16 -> 0.25 | I15: =I16/F16 -> 0.25 | J15: =J16/F16 -> 0.25
E16: Financeiro | F16: ='Plan. Orçamentária'!I25 -> 44694.2 | G16: ='Plan. Orçamentária'!I25/4 -> 11173.55 | H16: ='Plan. Orçamentária'!I25/4 -> 11173.55 | I16: ='Plan. Orçamentária'!I25/4 -> 11173.55 | J16: ='Plan. Orçamentária'!I25/4 -> 11173.55 | R16: =F16 -> 44694.2 | S16: =SUM(G16:J16) -> 44694.2 | T16: =R16-S16 -> 0
A17: ='Plan. Orçamentária'!A26 -> 4 | B17: ='Plan. Orçamentária'!D26 -> SINALIZAÇÃO | E17: Físico % | F17: 1 | G17: =G18/F18 -> 0.25 | H17: =H18/F18 -> 0.25 | I17: =I18/F18 -> 0.25 | J17: =J18/F18 -> 0.25
E18: Financeiro | F18: ='Plan. Orçamentária'!I29 -> 1653.37 | G18: ='Plan. Orçamentária'!I29/4 -> 413.34 | H18: ='Plan. Orçamentária'!I29/4 -> 413.34 | I18: ='Plan. Orçamentária'!I29/4 -> 413.34 | J18: ='Plan. Orçamentária'!I29/4+0.01 -> 413.35 | R18: =F18 -> 1653.37 | S18: =SUM(G18:J18) -> 1653.37 | T18: =R18-S18 -> 0
A19: ='Plan. Orçamentária'!A30 -> 5 | B19: ='Plan. Orçamentária'!D30 -> DRENAGEM PLUVIAL | E19: Físico % | F19: 1 | G19: =G20/F20 -> 0.8507 | H19: =H20/F20 -> 0.1493 | I19: =I20/F20 -> 0 | J19: =J20/F20 -> 0
E20: Financeiro | F20: ='Plan. Orçamentária'!I39 -> 441777.69 | G20: ='Plan. Orçamentária'!I31+'Plan. Orçamentária'!I32+'Plan. Orçamentária'!I33+'Plan. Orçamentária'!I34+'Plan. Orçamentária'!I35+'Plan. Orçamentária'!I36 -> 375798.78 | H20: ='Plan. Orçamentária'!I37+'Plan. Orçamentária'!I38 -> 65978.91 | I20: ='Plan. Orçamentária'!K31+'Plan. Orçamentária'!K32+'Plan. Orçamentária'!K33+'Plan. Orçamentária'!K34+'Plan. Orçamentária'!K35+'Plan. Orçamentária'!K36 -> 0 | J20: ='Plan. Orçamentária'!K37+'Plan. Orçamentária'!K38 -> 0 | R20: =F20 -> 441777.69 | S20: =SUM(G20:J20) -> 441777.69 | T20: =R20-S20 -> 0
A21: ='Plan. Orçamentária'!A40 -> 6 | B21: ='Plan. Orçamentária'!D40 -> PAVIMENTAÇÃO | E21: Físico % | F21: 1 | G21: =G22/F22 -> 0.1817 | H21: =H22/F22 -> 0.2728 | I21: =I22/F22 -> 0.2728 | J21: =J22/F22 -> 0.2728
E22: Financeiro | F22: ='Plan. Orçamentária'!I55 -> 1226203.2 | G22: ='Plan. Orçamentária'!I41+'Plan. Orçamentária'!I42+'Plan. Orçamentária'!I43+'Plan. Orçamentária'!I44+'Plan. Orçamentária'!I45 -> 222806.87 | H22: =('Plan. Orçamentária'!I46+'Plan. Orçamentária'!I47+'Plan. Orçamentária'!I48+'Plan. Orçamentária'!I49+'Plan. Orçamentária'!I50+'Plan. Orçamentária'!I51+'Plan. Orçamentária'!I52+'Plan. Orçamentária'!I53+'Plan. Orçamentária'!I54)/3 -> 334465.45 | I22: =('Plan. Orçamentária'!I46+'Plan. Orçamentária'!I47+'Plan. Orçamentária'!I48+'Plan. Orçamentária'!I49+'Plan. Orçamentária'!I50+'Plan. Orçamentária'!I51+'Plan. Orçamentária'!I52+'Plan. Orçamentária'!I53+'Plan. Orçamentária'!I54)/3 -> 334465.45 | J22: =('Plan. Orçamentária'!I46+'Plan. Orçamentária'!I47+'Plan. Orçamentária'!I48+'Plan. Orçamentária'!I49+'Plan. Orçamentária'!I50+'Plan. Orçamentária'!I51+'Plan. Orçamentária'!I52+'Plan. Orçamentária'!I53+'Plan. Orçamentária'!I54)/3 -> 334465.45 | R22: =F22 -> 1226203.2 | S22: =SUM(G22:J22) -> 1226203.2 | T22: =R22-S22 -> 0
A23: ='Plan. Orçamentária'!A56 -> 7 | B23: ='Plan. Orçamentária'!D56 -> MURO DE CONTENÇÃO | E23: Físico % | F23: 1 | G23: =G24/F24 -> 0 | H23: =H24/F24 -> 0.5 | I23: =I24/F24 -> 0.5 | J23: =J24/F24 -> 0
E24: Financeiro | F24: ='Plan. Orçamentária'!I67 -> 222768.18 | H24: ='Plan. Orçamentária'!I67/2 -> 111384.09 | I24: ='Plan. Orçamentária'!I67/2 -> 111384.09 | R24: =F24 -> 222768.18 | S24: =SUM(G24:J24) -> 222768.18 | T24: =R24-S24 -> 0
A25: TOTAL | E25: Físico % | F25: =G25+H25+I25+J25 -> 1 | G25: =G26/$F$26 -> 0.3157 | H25: =H26/$F$26 -> 0.2694 | I25: =I26/$F$26 -> 0.2356 | J25: =J26/$F$26-0.0001 -> 0.1793 | R25: =F25 -> 1 | S25: =SUM(G25:O25) -> 1 | T25: =R25-S25 -> 0
E26: Financeiro | F26: ='Plan. Orçamentária'!I68 -> 1952913.5 | G26: =G12+G14+G16+G18+G20+G22+G24 -> 616475.47 | H26: =H12+H14+H16+H18+H20+H22+H24 -> 526075.83 | I26: =I12+I14+I16+I18+I20+I22+I24 -> 460096.92 | J26: =J12+J14+J16+J18+J20+J22+J24 -> 350265.32 | R26: =F26 -> 1952913.5 | S26: ='Plan. Orçamentária'!I68 -> 1952913.5 | T26: =R26-S26 -> 0
