Workbook

Sheet SERVIÇOS
E2: ANEXO X - PLANILHA DE QUANTITATIVO E PREÇOS UNITÁRIOS (ORÇAMENTO)
E4: OBRA / SERVIÇO - UNIDADE DO SISTEMA: | G4: LOCALIDADE: | J4: PÁGINA: | K4: DATA BASE:
E5: SAA - Sistema de Abastecimento de Água | G5: Nova Era - MG | K5: Novembro/2018
A7: ÍTEM | B7: SUB- | C7: DISCRIMINAÇÃO | G7: UNID. | H7: QUANT. | I7: PREÇO | J7: PREÇO UNIT. | K7: VALOR TOTAL
B8: ÍTEM | I8: UNITÁRIO (R$) | J8: C/ BDI 32,01% | K8: C/ BDI 32,01%
K9: =IF(I9=0," ",IF(I9=" -"," -",H9*I9))
A10: 1 | C10: MOBILIZAÇÃO E DESMOBILIZAÇÃO
B12: 1.1 | C12: MOBILIZAÇÃO E DESMOBILIZAÇÃO DE OBRA | G12: vb | H12: 1 | I12: =SUM('RESUMO GERAL'!G12:H12,'RESUMO GERAL'!G14:H14,'RESUMO GERAL'!I12:J12,'RESUMO GERAL'!I14:J14,'RESUMO GERAL'!I16:J16)*0.6799*0.015 -> 3587.4762 | J12: =I12*1.3201 -> 4735.8274 | K12: =J12 -> 4735.8274
C14: Mobilização e desmobilização de obra - para obras que exigem a utilização de grande quantidade de equipamentos e são executadas em locais distantes de centros urbanos - 1,5% do custo direto da obra
A33: TOTAL DO ITEM 1 | K33: =SUM(K9:K32) -> 4735.8274
A36: DATA: | D36: NOME E CARGO:
K38: =IF(I38=0," ",IF(I38=" -"," -",H38*I38))
A39: 2 | C39: LINHA DE RECALQUE E ALIMENTAÇÃO
B41: 2.1. | C41: SERVIÇOS PRELIMINARES
C43: Placa de Obra
C45: Instalação de placa de obra com 3,00 x 1,50m, em chapa galvanizada, conforme padrão | G45: m² | H45: 4.5 | I45: 336.96 | J45: =I45*1.3201 -> 444.8209 | K45: =J45*H45 -> 2001.694
C46: da PMNE.
C48: Sinalização e Segurança de Obras
C50: Sinalização de transito com placas e cones | G50: m | H50: 800 | I50: 2.08 | J50: =I50*1.3201 -> 2.745808 | K50: =J50*H50 -> 2196.6464
B52: 2.2 | C52: DEMOLIÇÕES E REMOÇÕES
C54: Demolição de pavimento asfaltico, faixas menores ou iguais a 2,00m | G54: m² | H54: 18 | I54: 10.86 | J54: =I54*1.3201 -> 14.336286 | K54: =J54*H54 -> 258.05315
C56: Demolição de pavimento em paralelepipedo, poliedrico e pre-moldado, de forma manual, com reaproveitamento | G56: m² | H56: 872.4 | I56: 8.84 | J56: =I56*1.3201 -> 11.669684 | K56: =J56*H56 -> 10180.632
C58: Retirada de grama | G58: m² | H58: 75 | I58: 3.07 | J58: =I58*1.3201 -> 4.052707 | K58: =J58*H58 -> 303.95302
B60: 2.3 | C60: BOTA FORA DE MATERIAL DEMOLIDO
C62: Carga manual de material em geral, sem manuseio e arrumação do material | G62: m³ | H62: 6 | I62: 16.27 | J62: =I62*1.3201 -> 21.478027 | K62: =J62*H62 -> 128.86816
C64: Carga e descarga mecânica de material em geral, sem manuseio e arrumação de material | G64: m³ | H64: 40 | I64: 1.62 | J64: =I64*1.3201 -> 2.138562 | K64: =J64*H64 -> 85.54248
C66: Transporte de material em geral, com caminhão basculante de 10m³, em via urbana | G66: m³/km | H66: 230 | I66: 1.17 | J66: =I66*1.3201 -> 1.544517 | K66: =J66*H66 -> 355.23891
C67: (DMT-5Km)
A72: DATA: | D72: NOME E CARGO:
B75: 2.4 | C75: MOVIMENTO DE TERRA
C77: Escavação manual de valas, em solo seco, profundidade até 1,50m | G77: m³ | H77: 24 | I77: 48.57 | J77: =I77*1.3201 -> 64.117257 | K77: =J77*H77 -> 1538.8142
C79: Escavação mecânica de valas, em solo seco, profundidade até 1,50m, largura menor que 0,80 m | G79: m³ | H79: 496.5 | I79: 5.82 | J79: =I79*1.3201 -> 7.682982 | K79: =J79*H79 -> 3814.6006
C81: Acerto e verificação do nivelamento de fundo de vala | G81: m² | H81: 456 | I81: 3.8 | J81: =I81*1.3201 -> 5.01638 | K81: =J81*H81 -> 2287.4693
C83: Aterro de valas e cavas de fundação, com controle do grau de compactação | G83: m³ | H83: 520.5 | I83: 14.86 | J83: =I83*1.3201 -> 19.616686 | K83: =J83*H83 -> 10210.485
C84: de no mínimo 97% do proctor normal
C86: Muro de arrimo em rip-rap (vegetativo) | G86: m³ | H86: 24 | I86: 154.72 | J86: =I86*1.3201 -> 204.24587 | K86: =J86*H86 -> 4901.9009
B88: 2.5 | C88: MATERIAS E EQUIPAMENTOS HIDRÁULICOS
C90: Montagens especiais em ferro fundido | G90: kg | H90: 320 | I90: 1.28 | J90: =I90*1.3201 -> 1.689728 | K90: =J90*H90 -> 540.71296
C92: Assentamento de tubos e conexões de ferro fundido, junta elástica, DN 100mm | G92: m | H92: 132 | I92: 3.63 | J92: =I92*1.3201 -> 4.791963 | K92: =J92*H92 -> 632.53912
C94: Assentamento de tubos e conexões de PVC, junta elástica, DN 100mm | G94: m | H94: 30 | I94: 1.75 | J94: =I94*1.3201 -> 2.310175 | K94: =J94*H94 -> 69.30525
...

Sheet MATERIAIS(1)
E2: ANEXO X - PLANILHA DE QUANTITATIVO E PREÇOS UNITÁRIOS (ORÇAMENTO)
E4: OBRA / SERVIÇO - UNIDADE DO SISTEMA: | G4: LOCALIDADE: | J4: PÁGINA: | K4: DATA BASE:
E5: SAA - Sistema de Abastecimento de Água | G5: Nova Era - MG | K5: Novembro/2018
A7: ÍTEM | B7: SUB- | C7: DISCRIMINAÇÃO | G7: UNID. | H7: QUANT. | I7: PREÇO | J7: PREÇO UNIT. | K7: VALOR TOTAL
B8: ÍTEM | I8: UNITÁRIO (R$) | J8: C/ BDI 32,01% | K8: C/ BDI 32,01%
K9: =IF(I9=0," ",IF(I9=" -"," -",H9*I9))
A10: 2 | C10: LINHA DE RECALQUE E ALIMENTAÇÃO
B12: 2.1 | C12: TUBO DE PVC RÍGIDO, PONTA E BOLSA, JUNTA ELÁSTICA INTEGRADA FABRICADO
C13: CONFORME NBR 5647 (PBA)
B15: 2.1.1 | C15: Tubo PVC PBA JEI CL15 DN 100 | G15: m | H15: 30 | I15: 46.51 | J15: =I15*1.3201 -> 61.397851 | K15: =H15*J15 -> 1841.9355
B17: 2.2 | C17: PEÇAS E CONEXÕES PARA TUBOS DE PVC RÍGIDO (PBA) FABRICADOS CONFORME
C18: NBR 9815 E NBR 10351
B20: 2.2.1 | C20: Tê PVC JE BBB PBA DN 100x100 | G20: pç | H20: 1 | I20: 84.48 | J20: =I20*1.3201 -> 111.52205 | K20: =H20*J20 -> 111.52205
B22: 2.2.2 | C22: Luva de correr PVC JE PBA DN 100 | G22: pç | H22: 2 | I22: 49.9 | J22: =I22*1.3201 -> 65.87299 | K22: =H22*J22 -> 131.74598
B24: 2.2.3 | C24: Adaptador PVC bolsa PBA x Ponta FoFo DN 100x100 | G24: pç | H24: 1 | I24: 45.43 | J24: =I24*1.3201 -> 59.972143 | K24: =H24*J24 -> 59.972143
B26: 2.3 | C26: TUBO DE PVC RÍGIDO DEFOFO, PONTA E BOLSA, JUNTA ELÁSTICA INTEGRADA, PRESSÃO NOMINAL DE TRABALHO DE 10Kgf/cm², FABRICADO CONFORME NBR 7665
B28: 2.3.1 | C28: Tubo de PVC DEFOFO PB JEI DN 100 | G28: m | H28: 714 | I28: 36.51 | J28: =I28*1.3201 -> 48.196851 | K28: =H28*J28 -> 34412.552
B30: 2.4 | C30: TUBO DE FERRO FUNDIDO DÚCTIL CENTRIFUGADO, PONTA E BOLSA, JUNTA ELÁSTICA
C31: CLASSE K-9, FABRICADO CONFORME NBR 7663
B33: 2.4.1 | C33: Tubo FoFo K-9 JGS (TK9 JGS) DN 100 | G33: m | H33: 60 | I33: 251.79 | J33: =I33*1.3201 -> 332.38798 | K33: =H33*J33 -> 19943.279
A35: DATA: | D35: NOME E CARGO:
K37: =IF(I37=0," ",IF(I37=" -"," -",H37*I37))
B38: 2.4.2 | C38: Tubo FoFo K-9 JGSTI (TK9 JGSTI) DN 100 | G38: m | H38: 72 | I38: 281.72 | J38: =I38*1.3201 -> 371.89857 | K38: =H38*J38 -> 26776.697
B40: 2.5 | C40: CONEXÕES DE FERRO FUNDIDO DÚCTIL PARA JUNTAS ELÁSTICAS (NBR7674)
C41: FABRICADO CONFORME NBR 7675
B43: 2.5.1 | C43: Curva 90° com bolsas (C 90° JE) DN 100 | G43: pç | H43: 7 | I43: 145.85 | J43: =I43*1.3201 -> 192.53659 | K43: =H43*J43 -> 1347.7561
B45: 2.5.2 | C45: Curva 45° com bolsas (C 45° JTI) DN 100 | G45: pç | H45: 2 | I45: 413.61 | J45: =I45*1.3201 -> 546.00656 | K45: =H45*J45 -> 1092.0131
B47: 2.5.3 | C47: Curva 22°30' com bolsas (C 22°30' JTI) DN 100 | G47: pç | H47: 1 | I47: 431.85 | J47: =I47*1.3201 -> 570.08519 | K47: =H47*J47 -> 570.08519
B49: 2.5.4 | C49: Extremidade flange e bolsa JGS PN16 DN 100 | G49: pç | H49: 2 | I49: 156 | J49: =I49*1.3201 -> 205.9356 | K49: =H49*J49 -> 411.8712
B51: 2.5.5 | C51: Luva de correr junta mecânica DN 100 | G51: pç | H51: 2 | I51: 291.86 | J51: =I51*1.3201 -> 385.28439 | K51: =H51*J51 -> 770.56877
B53: 2.6 | C53: CONEXÕES DE FERRO FUNDIDO DÚCTIL PARA JUNTAS FLANGEADAS, FABRICADA
C54: CONFORME NBR 7675
B56: 2.6.1 | C56: Extremidade flange e ponta
C58: EFP PN16 DN 100 | G58: pç | H58: 3 | I58: 210.86 | J58: =I58*1.3201 -> 278.35629 | K58: =H58*J58 -> 835.06886
B60: 2.6.2 | C60: Tê com flanges
C62: TFF PN16 DN 100x100 | G62: pç | H62: 3 | I62: 290.66 | J62: =I62*1.3201 -> 383.70027 | K62: =H62*J62 -> 1151.1008
B64: 2.7 | C64: REGISTRO EURO23, COM FLANGES E CABEÇOTE,CORPO CURTO, CONF. NBR 7675
C65: R23FC PN16 DN 100 | G65: pç | H65: 4 | I65: 497.48 | J65: =I65*1.3201 -> 656.72335 | K65: =H65*J65 -> 2626.8934
B67: 2.8 | C67: EQUIPAMENTOS E APARELHOS PARA PROTEÇÃO DE CANALIZAÇÃO EM FERRO FUNDIDO
A70: DATA:
...

Sheet MATERIAIS(2)
A1: ANEXO X - PLANILHA DE QUANTITATIVO E PREÇOS UNITÁRIOS (ORÇAMENTO)
A3: PREFEITURA MUNICIPAL DE NOVA ERA Secretaria de Obras e Serviços Urbanos
A4: OBRA POR EXECUÇÃO INDIRETA
A5: Objeto: | B5: Perfuração/cravação por método não destrutivo - MND, para rede de abastecimento de água do bairro Colina | E5: BDI: | F5: 0.3201 | H5: 43412
A6: PLANILHA ORÇAMENTÁRIA
A7: Item | B7: Preço referência | C7: Descrição | D7: Qtde. | E7: Un. | F7: P.Unit | G7: P. Unit. com BDI | H7: P. Total
A8: 4 | C8: PERFURAÇÃO/CRAVAÇÃO POR MÉTODO NÃO DESTRUTIVO - MND
A9: 4.1 | B9: Cotações | C9: Execução de perfuração ou cravação horizontal pelo método não destrutivo, incluindo instalação completa de tubo camisa em aço inox Ø273,05mm e tubo em ferro fundido JGSTI DN 100mm, conforme Projeto Básico fornecido pela Prefeitura de Nova Era/MG | D9: 30 | E9: m | F9: 1790.17 | G9: =F9*1.3201 -> 2363.2034 | H9: =D9*G9 -> 70896.103
A10: 4.2 | B10: Composição | C10: Tubo com costura 273,05mm x 4,19mm 304/L ASTM312 DEC. ASME/NA 6000mm Plana - Tubo em aço inox com 6,0m | D10: 5 | E10: und | F10: 4829.57 | G10: =F10*1.3201 -> 6375.5154 | H10: =D10*G10 -> 31877.577
A11: 4.3 | B11: SET PROJ-EXE-060 | C11: Projeto Executivo de perfuração horizontal pelo método não destrutivo - MND | D11: 3 | E11: PR A1 | F11: 355.26 | G11: =F11*1.3201 -> 468.97873 | H11: =D11*G11 -> 1406.9362
A12: SUB-TOTAL | H12: =SUM(H9:H11) -> 104180.62
A13: TOTAL DO ITEM 4 | H13: =SUM(H12) -> 104180.62
A14: Instruções:
A15: 1) Os preços unitários da planilha são referenciais, limites máximos permitidos e correspondem ao custo total de cada serviço. Foram utilizados preços de referência com desoneração, conforme Lei 13.161/2015.
A16: 2) Estão incluídos nos custos de cada item: Fornecimento e transporte de todos os materiais e equipamentos + mão de obra + encargos sociais + encargos complementares. No preço unitário estão incluidos todos os componentes necessários para execução de cada serviço, mesmo aqueles que embora não citados sejam indispensáveis para o seu desenvolvimento.
A17: 3) Os Encargos complementares são custos associados à mão de obra - alimentação, transporte, equipamentos de proteção individual, ferramentas e outros.
A18: 4) O BDI adotado foi de 32,01%, com desoneração, conforme Acórdão nº 2622/2013 e Lei 13.161 de 31/08/15. Os percentuais adotados para o cálculo do BDI estão detalhados em planilha anexa. Conforme legislação tributária Municipal, a base de cálculo do ISS corresponde a 90,00% do valor deste tipo de obra e, sobre esta base, incide ISS com alíquota de 5,00%.
A19: 5) A Contribuição Previdenciária sobre a Receita Bruta (CPRB) - Lei 13.161/2015, desonera a folha de salários de diversas atividades econômicas da construção civil e impacta no cálculo do BDI mediante a majoração do percentual correspondente à 4,5% sobre o preço total da obra, em substituição à contribuição previdenciária patronal de 20% prevista nos encargos sociais.
A20: 6) Os serviços deverão ser executados rigorosamente conforme Planilha Orçamentária, Especificação Técnica e Projetos.
A21: 7) Caso a Fiscalização Municipal entenda como inviável a execução de algum item previsto nesta planilha, a Prefeitura Municipal reserva-se o direito de realizar supressão total ou parcial do(s) mesmo(s), de acordo com os limites estabelecidos pela Lei nº 8.666/93.
A22: 8) Os LICITANTES deverão apresentar composição do BDI utilizado em sua proposta comercial, detalhando cada percentual separadamente (Administração central, seguros, riscos, garantias, despesas financeiras, lucro/remuneração, impostos). O percentual de ISS deverá seguir a legislação Municipal. A CONTRATANTE realizará retenção do ISS conforme alíquota adotada na composição da empresa vencedora do processo licitatório.

Sheet RESUMO GERAL
E2: ANEXO X - PLANILHA DE QUANTITATIVO E PREÇOS UNITÁRIOS (ORÇAMENTO)
M3: 25 | N3: 100
E4: OBRA / SERVIÇO - UNIDADE DO SISTEMA: | G4: Localidade | I4: PÁGINA | J4: DATA BASE: | M4: 15 | N4: 100
E5: SAA - Sistema de Abastecimento de Água | G5: Nova Era - MG | J5: Novembro/2018
A7: ÍTEM | C7: DISCRIMINAÇÃO | G7: PREÇO OBRAS (R$) | I7: PREÇO MATERIAIS (R$)
G8: C/ BDI 32,01% | I8: C/ BDI 32,01%
J9: =IF(I9=0," ",IF(I9=" -"," -",H9*I9))
A10: 1 | C10: MOBILIZAÇÃO E DESMOBILIZAÇÃO | G10: =SERVIÇOS!K33 -> 4735.8274
A12: 2 | C12: LINHA DE RECALQUE E ALIMENTAÇÃO | G12: =SERVIÇOS!K134 -> 69689.061 | I12: ='MATERIAIS(1)'!K100 -> 99419.12
A14: 3 | C14: ESTAÇÃO ELEVATÓRIA DE ÁGUA TRATADA | G14: =SERVIÇOS!K237 -> 25042.471 | I14: ='MATERIAIS(1)'!K238 -> 53433.82
A16: 4 | C16: PERFURAÇÃO/CRAVAÇÃO POR MÉTODO NÃO DESTRUTIVO - MND | I16: ='MATERIAIS(2)'!H13 -> 104180.62
C21: SOMA | G21: =SUM(G10:H20) -> 99467.359 | I21: =SUM(I10:J20) -> 257033.56
C28: TOTAL GERAL | J28: =G21+I21 -> 356500.91
A36: DATA: | D36: NOME E CARGO:
